Package: breastCancerTRANSBIG Version: 1.48.0 Command: /home/biocbuild/bbs-3.22-bioc/R/bin/R CMD INSTALL breastCancerTRANSBIG StartedAt: 2025-11-04 10:55:17 -0500 (Tue, 04 Nov 2025) EndedAt: 2025-11-04 10:55:20 -0500 (Tue, 04 Nov 2025) EllapsedTime: 3.1 seconds RetCode: 0 Status: OK