Package: breastCancerTRANSBIG Version: 1.48.0 Command: /home/biocbuild/bbs-3.22-bioc/R/bin/R CMD check --install=check:breastCancerTRANSBIG.install-out.txt --library=/home/biocbuild/bbs-3.22-bioc/R/site-library --timings breastCancerTRANSBIG_1.48.0.tar.gz StartedAt: 2025-11-06 12:02:57 -0500 (Thu, 06 Nov 2025) EndedAt: 2025-11-06 12:03:49 -0500 (Thu, 06 Nov 2025) EllapsedTime: 52.3 seconds RetCode: 0 Status: WARNINGS CheckDir: breastCancerTRANSBIG.Rcheck Warnings: 1