Package: breastCancerTRANSBIG Version: 1.48.0 Command: /home/biocbuild/bbs-3.22-bioc/R/bin/R CMD build --keep-empty-dirs --no-resave-data breastCancerTRANSBIG StartedAt: 2025-11-04 11:09:08 -0500 (Tue, 04 Nov 2025) EndedAt: 2025-11-04 11:09:11 -0500 (Tue, 04 Nov 2025) EllapsedTime: 3.3 seconds RetCode: 0 Status: OK PackageFile: breastCancerTRANSBIG_1.48.0.tar.gz PackageFileSize: 34.48 MiB