Package: breastCancerMAINZ Version: 1.48.0 Command: /home/biocbuild/bbs-3.22-bioc/R/bin/R CMD check --install=check:breastCancerMAINZ.install-out.txt --library=/home/biocbuild/bbs-3.22-bioc/R/site-library --timings breastCancerMAINZ_1.48.0.tar.gz StartedAt: 2025-11-13 12:04:03 -0500 (Thu, 13 Nov 2025) EndedAt: 2025-11-13 12:04:57 -0500 (Thu, 13 Nov 2025) EllapsedTime: 54.3 seconds RetCode: 0 Status: WARNINGS CheckDir: breastCancerMAINZ.Rcheck Warnings: 1