Package: breastCancerMAINZ Version: 1.48.0 Command: /home/biocbuild/bbs-3.22-bioc/R/bin/R CMD build --keep-empty-dirs --no-resave-data breastCancerMAINZ StartedAt: 2025-11-04 11:09:04 -0500 (Tue, 04 Nov 2025) EndedAt: 2025-11-04 11:09:07 -0500 (Tue, 04 Nov 2025) EllapsedTime: 3.3 seconds RetCode: 0 Status: OK PackageFile: breastCancerMAINZ_1.48.0.tar.gz PackageFileSize: 34.8 MiB