Package: bodymapRat Version: 1.26.0 Command: /home/biocbuild/bbs-3.22-bioc/R/bin/R CMD INSTALL bodymapRat StartedAt: 2025-11-04 11:00:22 -0500 (Tue, 04 Nov 2025) EndedAt: 2025-11-04 11:00:53 -0500 (Tue, 04 Nov 2025) EllapsedTime: 30.9 seconds RetCode: 0 Status: OK