Package: bodymapRat Version: 1.26.0 Command: /home/biocbuild/bbs-3.22-bioc/R/bin/R CMD build --keep-empty-dirs --no-resave-data bodymapRat StartedAt: 2025-11-04 11:08:41 -0500 (Tue, 04 Nov 2025) EndedAt: 2025-11-04 11:11:33 -0500 (Tue, 04 Nov 2025) EllapsedTime: 171.6 seconds RetCode: 0 Status: OK PackageFile: bodymapRat_1.26.0.tar.gz PackageFileSize: 299.1 KiB