Package: blimaTestingData Version: 1.30.0 Command: /home/biocbuild/bbs-3.22-bioc/R/bin/R CMD INSTALL blimaTestingData StartedAt: 2025-10-30 10:55:30 -0400 (Thu, 30 Oct 2025) EndedAt: 2025-10-30 10:55:37 -0400 (Thu, 30 Oct 2025) EllapsedTime: 7.4 seconds RetCode: 0 Status: OK