Package: blimaTestingData Version: 1.30.0 Command: /home/biocbuild/bbs-3.22-bioc/R/bin/R CMD check --install=check:blimaTestingData.install-out.txt --library=/home/biocbuild/bbs-3.22-bioc/R/site-library --timings blimaTestingData_1.30.0.tar.gz StartedAt: 2025-10-30 12:17:38 -0400 (Thu, 30 Oct 2025) EndedAt: 2025-10-30 12:19:03 -0400 (Thu, 30 Oct 2025) EllapsedTime: 84.5 seconds RetCode: 0 Status: OK CheckDir: blimaTestingData.Rcheck Warnings: 0