Package: blimaTestingData Version: 1.30.0 Command: /home/biocbuild/bbs-3.22-bioc/R/bin/R CMD build --keep-empty-dirs --no-resave-data blimaTestingData StartedAt: 2025-10-30 11:12:26 -0400 (Thu, 30 Oct 2025) EndedAt: 2025-10-30 11:13:17 -0400 (Thu, 30 Oct 2025) EllapsedTime: 51.2 seconds RetCode: 0 Status: OK PackageFile: blimaTestingData_1.30.0.tar.gz PackageFileSize: 98.28 MiB