Package: bladderbatch Version: 1.48.0 Command: /home/biocbuild/bbs-3.22-bioc/R/bin/R CMD check --install=check:bladderbatch.install-out.txt --library=/home/biocbuild/bbs-3.22-bioc/R/site-library --timings bladderbatch_1.48.0.tar.gz StartedAt: 2025-11-04 12:02:51 -0500 (Tue, 04 Nov 2025) EndedAt: 2025-11-04 12:03:15 -0500 (Tue, 04 Nov 2025) EllapsedTime: 24.5 seconds RetCode: 0 Status: WARNINGS CheckDir: bladderbatch.Rcheck Warnings: 1