Package: biscuiteerData Version: 1.24.0 Command: /home/biocbuild/bbs-3.22-bioc/R/bin/R CMD INSTALL biscuiteerData StartedAt: 2025-11-18 10:58:41 -0500 (Tue, 18 Nov 2025) EndedAt: 2025-11-18 10:59:01 -0500 (Tue, 18 Nov 2025) EllapsedTime: 20.4 seconds RetCode: 0 Status: OK