Package: biscuiteerData Version: 1.24.0 Command: /home/biocbuild/bbs-3.22-bioc/R/bin/R CMD check --install=check:biscuiteerData.install-out.txt --library=/home/biocbuild/bbs-3.22-bioc/R/site-library --timings biscuiteerData_1.24.0.tar.gz StartedAt: 2025-11-18 12:31:31 -0500 (Tue, 18 Nov 2025) EndedAt: 2025-11-18 12:34:13 -0500 (Tue, 18 Nov 2025) EllapsedTime: 161.6 seconds RetCode: 0 Status: OK CheckDir: biscuiteerData.Rcheck Warnings: 0