Package: biotmleData Version: 1.34.0 Command: /home/biocbuild/bbs-3.22-bioc/R/bin/R CMD check --install=check:biotmleData.install-out.txt --library=/home/biocbuild/bbs-3.22-bioc/R/site-library --timings biotmleData_1.34.0.tar.gz StartedAt: 2025-11-04 12:02:40 -0500 (Tue, 04 Nov 2025) EndedAt: 2025-11-04 12:03:18 -0500 (Tue, 04 Nov 2025) EllapsedTime: 37.8 seconds RetCode: 0 Status: WARNINGS CheckDir: biotmleData.Rcheck Warnings: 2