Package: biotmleData Version: 1.34.0 Command: /home/biocbuild/bbs-3.22-bioc/R/bin/R CMD build --keep-empty-dirs --no-resave-data biotmleData StartedAt: 2025-11-04 11:08:30 -0500 (Tue, 04 Nov 2025) EndedAt: 2025-11-04 11:08:32 -0500 (Tue, 04 Nov 2025) EllapsedTime: 2.6 seconds RetCode: 0 Status: OK PackageFile: biotmleData_1.34.0.tar.gz PackageFileSize: 30.67 MiB