Package: beta7 Version: 1.48.0 Command: /home/biocbuild/bbs-3.22-bioc/R/bin/R CMD build --keep-empty-dirs --no-resave-data beta7 StartedAt: 2025-11-04 11:08:22 -0500 (Tue, 04 Nov 2025) EndedAt: 2025-11-04 11:08:31 -0500 (Tue, 04 Nov 2025) EllapsedTime: 8.9 seconds RetCode: 0 Status: OK PackageFile: beta7_1.48.0.tar.gz PackageFileSize: 15.18 MiB