Package: beadarrayExampleData Version: 1.48.0 Command: /home/biocbuild/bbs-3.22-bioc/R/bin/R CMD INSTALL beadarrayExampleData StartedAt: 2025-11-18 10:58:42 -0500 (Tue, 18 Nov 2025) EndedAt: 2025-11-18 10:58:54 -0500 (Tue, 18 Nov 2025) EllapsedTime: 11.1 seconds RetCode: 0 Status: OK