Package: beadarrayExampleData Version: 1.48.0 Command: /home/biocbuild/bbs-3.22-bioc/R/bin/R CMD check --install=check:beadarrayExampleData.install-out.txt --library=/home/biocbuild/bbs-3.22-bioc/R/site-library --timings beadarrayExampleData_1.48.0.tar.gz StartedAt: 2025-11-18 12:31:14 -0500 (Tue, 18 Nov 2025) EndedAt: 2025-11-18 12:33:03 -0500 (Tue, 18 Nov 2025) EllapsedTime: 109.1 seconds RetCode: 0 Status: OK CheckDir: beadarrayExampleData.Rcheck Warnings: 0