Package: bcellViper Version: 1.46.0 Command: /home/biocbuild/bbs-3.22-bioc/R/bin/R CMD INSTALL bcellViper StartedAt: 2025-11-04 10:56:09 -0500 (Tue, 04 Nov 2025) EndedAt: 2025-11-04 10:56:11 -0500 (Tue, 04 Nov 2025) EllapsedTime: 1.9 seconds RetCode: 0 Status: OK