Package: bcellViper Version: 1.46.0 Command: /home/biocbuild/bbs-3.22-bioc/R/bin/R CMD check --install=check:bcellViper.install-out.txt --library=/home/biocbuild/bbs-3.22-bioc/R/site-library --timings bcellViper_1.46.0.tar.gz StartedAt: 2025-11-04 12:02:29 -0500 (Tue, 04 Nov 2025) EndedAt: 2025-11-04 12:02:52 -0500 (Tue, 04 Nov 2025) EllapsedTime: 23.0 seconds RetCode: 0 Status: OK CheckDir: bcellViper.Rcheck Warnings: 0