Package: airway Version: 1.30.0 Command: /home/biocbuild/bbs-3.22-bioc/R/bin/R CMD INSTALL airway StartedAt: 2025-10-30 10:59:29 -0400 (Thu, 30 Oct 2025) EndedAt: 2025-10-30 10:59:55 -0400 (Thu, 30 Oct 2025) EllapsedTime: 25.6 seconds RetCode: 0 Status: OK