Package: airway Version: 1.30.0 Command: /home/biocbuild/bbs-3.22-bioc/R/bin/R CMD check --install=check:airway.install-out.txt --library=/home/biocbuild/bbs-3.22-bioc/R/site-library --timings airway_1.30.0.tar.gz StartedAt: 2025-11-04 12:02:08 -0500 (Tue, 04 Nov 2025) EndedAt: 2025-11-04 12:03:23 -0500 (Tue, 04 Nov 2025) EllapsedTime: 74.9 seconds RetCode: 0 Status: WARNINGS CheckDir: airway.Rcheck Warnings: 1