Package: affydata Version: 1.58.0 Command: /home/biocbuild/bbs-3.22-bioc/R/bin/R CMD INSTALL affydata StartedAt: 2025-11-04 10:57:42 -0500 (Tue, 04 Nov 2025) EndedAt: 2025-11-04 10:57:45 -0500 (Tue, 04 Nov 2025) EllapsedTime: 3.0 seconds RetCode: 0 Status: OK