Package: affydata Version: 1.58.0 Command: /home/biocbuild/bbs-3.22-bioc/R/bin/R CMD check --install=check:affydata.install-out.txt --library=/home/biocbuild/bbs-3.22-bioc/R/site-library --timings affydata_1.58.0.tar.gz StartedAt: 2025-11-04 12:02:08 -0500 (Tue, 04 Nov 2025) EndedAt: 2025-11-04 12:02:58 -0500 (Tue, 04 Nov 2025) EllapsedTime: 49.6 seconds RetCode: 0 Status: WARNINGS CheckDir: affydata.Rcheck Warnings: 2