Package: affydata Version: 1.58.0 Command: /home/biocbuild/bbs-3.22-bioc/R/bin/R CMD build --keep-empty-dirs --no-resave-data affydata StartedAt: 2025-11-04 11:07:58 -0500 (Tue, 04 Nov 2025) EndedAt: 2025-11-04 11:08:22 -0500 (Tue, 04 Nov 2025) EllapsedTime: 23.7 seconds RetCode: 0 Status: OK PackageFile: affydata_1.58.0.tar.gz PackageFileSize: 12.21 MiB