Package: affycompData Version: 1.48.0 Command: /home/biocbuild/bbs-3.22-bioc/R/bin/R CMD build --keep-empty-dirs --no-resave-data affycompData StartedAt: 2025-11-04 11:07:58 -0500 (Tue, 04 Nov 2025) EndedAt: 2025-11-04 11:08:04 -0500 (Tue, 04 Nov 2025) EllapsedTime: 6.2 seconds RetCode: 0 Status: OK PackageFile: affycompData_1.48.0.tar.gz PackageFileSize: 68.61 MiB