Package: adductData Version: 1.26.0 Command: /home/biocbuild/bbs-3.22-bioc/R/bin/R CMD INSTALL adductData StartedAt: 2025-11-04 10:57:08 -0500 (Tue, 04 Nov 2025) EndedAt: 2025-11-04 10:57:17 -0500 (Tue, 04 Nov 2025) EllapsedTime: 9.3 seconds RetCode: 0 Status: OK