Package: WeberDivechaLCdata Version: 1.12.0 Command: /home/biocbuild/bbs-3.22-bioc/R/bin/R CMD check --install=check:WeberDivechaLCdata.install-out.txt --library=/home/biocbuild/bbs-3.22-bioc/R/site-library --timings WeberDivechaLCdata_1.12.0.tar.gz StartedAt: 2025-11-04 13:11:09 -0500 (Tue, 04 Nov 2025) EndedAt: 2025-11-04 13:16:26 -0500 (Tue, 04 Nov 2025) EllapsedTime: 317.4 seconds RetCode: 0 Status: OK CheckDir: WeberDivechaLCdata.Rcheck Warnings: 0