Package: WES.1KG.WUGSC Version: 1.42.0 Command: /home/biocbuild/bbs-3.22-bioc/R/bin/R CMD INSTALL WES.1KG.WUGSC StartedAt: 2025-11-04 10:55:55 -0500 (Tue, 04 Nov 2025) EndedAt: 2025-11-04 10:56:01 -0500 (Tue, 04 Nov 2025) EllapsedTime: 5.5 seconds RetCode: 0 Status: OK