Package: WES.1KG.WUGSC Version: 1.42.0 Command: /home/biocbuild/bbs-3.22-bioc/R/bin/R CMD check --install=check:WES.1KG.WUGSC.install-out.txt --library=/home/biocbuild/bbs-3.22-bioc/R/site-library --timings WES.1KG.WUGSC_1.42.0.tar.gz StartedAt: 2025-11-04 13:11:21 -0500 (Tue, 04 Nov 2025) EndedAt: 2025-11-04 13:11:46 -0500 (Tue, 04 Nov 2025) EllapsedTime: 25.3 seconds RetCode: 0 Status: OK CheckDir: WES.1KG.WUGSC.Rcheck Warnings: 0