Package: WES.1KG.WUGSC Version: 1.42.0 Command: /home/biocbuild/bbs-3.22-bioc/R/bin/R CMD build --keep-empty-dirs --no-resave-data WES.1KG.WUGSC StartedAt: 2025-11-04 11:48:53 -0500 (Tue, 04 Nov 2025) EndedAt: 2025-11-04 11:49:19 -0500 (Tue, 04 Nov 2025) EllapsedTime: 26.3 seconds RetCode: 0 Status: OK PackageFile: WES.1KG.WUGSC_1.42.0.tar.gz PackageFileSize: 373.3 MiB