Package: VectraPolarisData Version: 1.14.0 Command: /home/biocbuild/bbs-3.22-bioc/R/bin/R CMD INSTALL VectraPolarisData StartedAt: 2025-11-20 11:01:06 -0500 (Thu, 20 Nov 2025) EndedAt: 2025-11-20 11:01:39 -0500 (Thu, 20 Nov 2025) EllapsedTime: 32.5 seconds RetCode: 0 Status: OK