Package: VectraPolarisData Version: 1.14.0 Command: /home/biocbuild/bbs-3.22-bioc/R/bin/R CMD build --keep-empty-dirs --no-resave-data VectraPolarisData StartedAt: 2025-11-20 11:52:33 -0500 (Thu, 20 Nov 2025) EndedAt: 2025-11-20 11:54:07 -0500 (Thu, 20 Nov 2025) EllapsedTime: 94.2 seconds RetCode: 0 Status: OK PackageFile: VectraPolarisData_1.14.0.tar.gz PackageFileSize: 794.1 KiB