Package: TumourMethData Version: 1.8.0 Command: /home/biocbuild/bbs-3.22-bioc/R/bin/R CMD INSTALL TumourMethData StartedAt: 2025-11-04 10:58:16 -0500 (Tue, 04 Nov 2025) EndedAt: 2025-11-04 10:58:46 -0500 (Tue, 04 Nov 2025) EllapsedTime: 30.5 seconds RetCode: 0 Status: OK