Package: TumourMethData Version: 1.8.0 Command: /home/biocbuild/bbs-3.22-bioc/R/bin/R CMD check --install=check:TumourMethData.install-out.txt --library=/home/biocbuild/bbs-3.22-bioc/R/site-library --timings TumourMethData_1.8.0.tar.gz StartedAt: 2025-11-04 13:09:24 -0500 (Tue, 04 Nov 2025) EndedAt: 2025-11-04 13:13:24 -0500 (Tue, 04 Nov 2025) EllapsedTime: 240.1 seconds RetCode: 0 Status: WARNINGS CheckDir: TumourMethData.Rcheck Warnings: 1