Package: TumourMethData Version: 1.8.0 Command: /home/biocbuild/bbs-3.22-bioc/R/bin/R CMD build --keep-empty-dirs --no-resave-data TumourMethData StartedAt: 2025-11-04 11:47:59 -0500 (Tue, 04 Nov 2025) EndedAt: 2025-11-04 11:48:42 -0500 (Tue, 04 Nov 2025) EllapsedTime: 43.3 seconds RetCode: 0 Status: OK PackageFile: TumourMethData_1.8.0.tar.gz PackageFileSize: 20.63 KiB