Package: TumourMethData Version: 1.6.0 Command: /home/biocbuild/bbs-3.21-bioc/R/bin/R CMD check --install=check:TumourMethData.install-out.txt --library=/home/biocbuild/bbs-3.21-bioc/R/site-library --timings TumourMethData_1.6.0.tar.gz StartedAt: 2025-10-16 13:08:55 -0400 (Thu, 16 Oct 2025) EndedAt: 2025-10-16 13:12:48 -0400 (Thu, 16 Oct 2025) EllapsedTime: 233.2 seconds RetCode: 0 Status: WARNINGS CheckDir: TumourMethData.Rcheck Warnings: 1