Package: TransOmicsData Version: 1.6.0 Command: /home/biocbuild/bbs-3.22-bioc/R/bin/R CMD check --install=check:TransOmicsData.install-out.txt --library=/home/biocbuild/bbs-3.22-bioc/R/site-library --timings TransOmicsData_1.6.0.tar.gz StartedAt: 2025-11-04 13:09:14 -0500 (Tue, 04 Nov 2025) EndedAt: 2025-11-04 13:09:59 -0500 (Tue, 04 Nov 2025) EllapsedTime: 44.6 seconds RetCode: 0 Status: OK CheckDir: TransOmicsData.Rcheck Warnings: 0