Package: TransOmicsData Version: 1.6.0 Command: /home/biocbuild/bbs-3.22-bioc/R/bin/R CMD build --keep-empty-dirs --no-resave-data TransOmicsData StartedAt: 2025-11-04 11:47:44 -0500 (Tue, 04 Nov 2025) EndedAt: 2025-11-04 11:47:59 -0500 (Tue, 04 Nov 2025) EllapsedTime: 14.4 seconds RetCode: 0 Status: OK PackageFile: TransOmicsData_1.6.0.tar.gz PackageFileSize: 232.8 KiB