Package: TransOmicsData Version: 1.4.0 Command: /home/biocbuild/bbs-3.21-bioc/R/bin/R CMD check --install=check:TransOmicsData.install-out.txt --library=/home/biocbuild/bbs-3.21-bioc/R/site-library --timings TransOmicsData_1.4.0.tar.gz StartedAt: 2025-09-30 13:06:06 -0400 (Tue, 30 Sep 2025) EndedAt: 2025-09-30 13:06:57 -0400 (Tue, 30 Sep 2025) EllapsedTime: 51.0 seconds RetCode: 0 Status: OK CheckDir: TransOmicsData.Rcheck Warnings: 0