Package: TimerQuant Version: 1.40.0 Command: /home/biocbuild/bbs-3.22-bioc/R/bin/R CMD INSTALL TimerQuant StartedAt: 2025-10-30 10:56:58 -0400 (Thu, 30 Oct 2025) EndedAt: 2025-10-30 10:57:05 -0400 (Thu, 30 Oct 2025) EllapsedTime: 7.3 seconds RetCode: 0 Status: OK