Package: TimerQuant Version: 1.40.0 Command: /home/biocbuild/bbs-3.22-bioc/R/bin/R CMD build --keep-empty-dirs --no-resave-data TimerQuant StartedAt: 2025-10-30 11:58:50 -0400 (Thu, 30 Oct 2025) EndedAt: 2025-10-30 11:59:05 -0400 (Thu, 30 Oct 2025) EllapsedTime: 15.0 seconds RetCode: 1 Status: ERROR PackageFile: None PackageFileSize: NA