Package: TargetSearchData Version: 1.46.0 Command: /home/biocbuild/bbs-3.21-bioc/R/bin/R CMD check --install=check:TargetSearchData.install-out.txt --library=/home/biocbuild/bbs-3.21-bioc/R/site-library --timings TargetSearchData_1.46.0.tar.gz StartedAt: 2025-09-30 13:00:13 -0400 (Tue, 30 Sep 2025) EndedAt: 2025-09-30 13:00:34 -0400 (Tue, 30 Sep 2025) EllapsedTime: 20.3 seconds RetCode: 0 Status: OK CheckDir: TargetSearchData.Rcheck Warnings: 0