Package: TargetScoreData Version: 1.46.0 Command: /home/biocbuild/bbs-3.22-bioc/R/bin/R CMD build --keep-empty-dirs --no-resave-data TargetScoreData StartedAt: 2025-10-30 11:56:14 -0400 (Thu, 30 Oct 2025) EndedAt: 2025-10-30 11:57:05 -0400 (Thu, 30 Oct 2025) EllapsedTime: 50.1 seconds RetCode: 0 Status: OK PackageFile: TargetScoreData_1.46.0.tar.gz PackageFileSize: 206.2 MiB