Package: TabulaMurisData Version: 1.28.0 Command: /home/biocbuild/bbs-3.22-bioc/R/bin/R CMD INSTALL TabulaMurisData StartedAt: 2025-11-04 10:57:22 -0500 (Tue, 04 Nov 2025) EndedAt: 2025-11-04 10:57:37 -0500 (Tue, 04 Nov 2025) EllapsedTime: 14.2 seconds RetCode: 0 Status: OK