Package: TabulaMurisData Version: 1.28.0 Command: /home/biocbuild/bbs-3.22-bioc/R/bin/R CMD check --install=check:TabulaMurisData.install-out.txt --library=/home/biocbuild/bbs-3.22-bioc/R/site-library --timings TabulaMurisData_1.28.0.tar.gz StartedAt: 2025-11-04 13:01:29 -0500 (Tue, 04 Nov 2025) EndedAt: 2025-11-04 13:04:45 -0500 (Tue, 04 Nov 2025) EllapsedTime: 195.8 seconds RetCode: 0 Status: OK CheckDir: TabulaMurisData.Rcheck Warnings: 0