Package: TabulaMurisData Version: 1.28.0 Command: /home/biocbuild/bbs-3.22-bioc/R/bin/R CMD build --keep-empty-dirs --no-resave-data TabulaMurisData StartedAt: 2025-11-04 11:44:34 -0500 (Tue, 04 Nov 2025) EndedAt: 2025-11-04 11:45:26 -0500 (Tue, 04 Nov 2025) EllapsedTime: 51.5 seconds RetCode: 0 Status: OK PackageFile: TabulaMurisData_1.28.0.tar.gz PackageFileSize: 220 KiB