Package: TMExplorer Version: 1.20.0 Command: /home/biocbuild/bbs-3.22-bioc/R/bin/R CMD INSTALL TMExplorer StartedAt: 2025-10-30 11:01:54 -0400 (Thu, 30 Oct 2025) EndedAt: 2025-10-30 11:02:31 -0400 (Thu, 30 Oct 2025) EllapsedTime: 38.0 seconds RetCode: 0 Status: OK