Package: TMExplorer Version: 1.20.0 Command: /home/biocbuild/bbs-3.22-bioc/R/bin/R CMD build --keep-empty-dirs --no-resave-data TMExplorer StartedAt: 2025-10-30 11:59:10 -0400 (Thu, 30 Oct 2025) EndedAt: 2025-10-30 12:00:12 -0400 (Thu, 30 Oct 2025) EllapsedTime: 62.8 seconds RetCode: 0 Status: OK PackageFile: TMExplorer_1.20.0.tar.gz PackageFileSize: 233.1 KiB