Package: TENxXeniumData Version: 1.6.0 Command: /home/biocbuild/bbs-3.22-bioc/R/bin/R CMD INSTALL TENxXeniumData StartedAt: 2025-10-30 11:06:24 -0400 (Thu, 30 Oct 2025) EndedAt: 2025-10-30 11:07:32 -0400 (Thu, 30 Oct 2025) EllapsedTime: 67.6 seconds RetCode: 0 Status: OK